BEGIN:VCALENDAR
VERSION:2.0
PRODID:-//hacksw/handcal//NONSGML v1.0//EN
BEGIN:VEVENT
SUMMARY:Decouverte du Longe Cote Sport Sante
UID:a8f9575e-75a5-4556-93fa-a18dff24b393
DTSTART:20260508T083000Z
DTEND:20260508T100000Z
LOCATION:Localisation Paddle Center , passage des Huttes 33123 Le Verdon Sur Mer
CATEGORIES:Sportif
STATUS:
DESCRIPTION:<p>EPGV Medoc propose 2 Seances de decouverte du Longe
 Cote Sport Sante :</p>
 
 <ul>
 	<li><strong>Le vendredi 8 mai 2026 de
 10h30 a 12h</strong></li>
 	<li><strong>Le Samedi 13 juin 2026 de
 14h30 a 16h</strong></li>
 </ul>
 
 <p><u>Pour qui </u>?</p>
 
 <div>Ces
 seances sont ouvertes a tous :</div>
 
 <div>Que vous soyez sportif ou
 non</div>
 
 <div>Que vous ayez 18 ans ou 90 ans ...</div>
 
 <div>Ne pas
 avoir peur de l'eau tout de meme !</div>
 
 <p>Vous serez encadre par
 Valerie, notre educatrice specialisee et formatrice nationale, afin
 de vous garantir une pratique securisee et adaptee a
 tous.</p>
 
 <p><u>Tarif</u> : <strong>10€ la seance</strong> (Pret
 de la combinaison inclus) a regler sur place.</p>
 
 <p><u>Materiel
 necessaire</u> :</p>
 
 <p>Venir avec son maillot de bain, des lunettes
 de soleil, un chapeau et des chaussures de marche dans l'eau ou des
 vielles baskets.</p>
 
 <p> </p>
 
 <p><span
 style="color:#c0392b;"><em><strong>Inscription
 obligatoire</strong></em></span> au minimum <u>la veille</u> aupres
 de Nathalie soit :</p>
 
 <ul>
 	<li>par telephone : 06 61 98 48
 68</li>
 	<li>ou par mail : <span dir="auto"><a
 href="mailto:nathaliedenost@gmail.com?subject=Inscription%20s%C3%A9ance%20d%C3%A9couverte&body=Bonjour%2C%0AJe%20souhaite%20participer%20%C3%A0%20la%20s%C3%A9ance%20de%20d%C3%A9couverte%20de%20longe%20c%C3%B4te%20.%0A%0ADate%20souhait%C3%A9e%20%3A%20%0A%0ANombre%20de%20personne%20%C3%A0%20inscrire%20%3A%0A%0ANom%20et%20pr%C3%A9nom%20des%20participants%20%3A%20">cliquer
 ici</a></span></li>
 </ul>
 
 <p>Vous recevrez une confirmation
 d'inscription a l'evenement par mail une fois inscrit.</p>
URL;VALUE=URI:https://www.epgvmedoc.fr/evenements/2026/05/08/decouverte-du-longe-cote-sport-sante-2444509
END:VEVENT
END:VCALENDAR
